BEGIN:VCALENDAR
VERSION:2.0
PRODID:-//www.ekiba.de//NONSGML kigkonsult.se iCalcreator 2.41.92//
CALSCALE:GREGORIAN
METHOD:PUBLISH
UID:38613864-3763-4765-b333-386437353465
X-WR-TIMEZONE:Europe/Berlin
X-LIC-LOCATION:Europe/Berlin
BEGIN:VTIMEZONE
TZID:Europe/Berlin
BEGIN:DAYLIGHT
TZOFFSETFROM:+0100
TZOFFSETTO:+0200
TZNAME:CEST
DTSTART:19700329T020000
RRULE:FREQ=YEARLY;BYDAY=-1SU;BYMONTH=3
END:DAYLIGHT
BEGIN:STANDARD
TZOFFSETFROM:+0200
TZOFFSETTO:+0100
TZNAME:CET
DTSTART:19701025T030000
RRULE:FREQ=YEARLY;BYDAY=-1SU;BYMONTH=10
END:STANDARD
END:VTIMEZONE
BEGIN:VEVENT
UID:39626637-6464-4733-b138-383034626539
DTSTAMP:20260421T174950Z
DESCRIPTION:Systemisch visualisieren in der Beratungsarbeit\n \n Systemisch
 es Arbeiten in der Beratung und die Visualisierung über Bildsprache\, Symb
 ole und einzelne Worte\, ergänzen und befördern sich gegenseitig. An diese
 m Seminartag lernen Sie Vokabeln der visuellen Sprache kennen\, probieren 
 Möglichkeiten ihres Einsatzes aus und entwickeln erste Einträge für ein vi
 suelles Wörterbuch für Ihre eigene Beratungsarbeit.\n \n Veranstaltungsort
 :\n Freiburg\, Haus der Evang. Kirche\n Schnewlinstraße 2\n 79098 Freiburg
  im Breisgau\n Telefon: +49 761 205741 0\n https://www.evangelisch-in-frei
 burg.de\n \n Veranstalter:\n KDA Baden\n Dr. Jochen Kunath\n Blumenstr. 1-
 7\n 76133 Karlsruhe\n Telefon: +49(0)721 9175-360\n Telefax: +49(0)721 917
 5-25360\n http://www.kda-baden.de
DTSTART;TZID=Europe/Berlin:20260629T083000
DTEND;TZID=Europe/Berlin:20260629T163000
LOCATION:Freiburg\, Haus der Evang. Kirche\n - Schnewlinstraße 2\n - 79098 
 Freiburg im Breisgau\n - Telefon: +49 761 205741 0\n - https://www.evangel
 isch-in-freiburg.de
SUMMARY:EIN BILD SAGT MEHR ...
X-ALT-DESC;FMTTYPE=text/html:Systemisch visualisieren in der  Beratungsarbe
 it<br /><br />Systemisches Arbeiten in der Beratung und die Visualisierung
  über Bildsprache\, Symbole und einzelne Worte\, ergänzen und befördern si
 ch gegenseitig.\n An diesem Seminartag lernen Sie Vokabeln der visuellen S
 prache kennen\, probieren Möglichkeiten ihres Einsatzes aus und entwickeln
  erste Einträge für ein visuelles Wörterbuch für Ihre eigene Beratungsarbe
 it.<br /><br />Veranstaltungsort: <br />Freiburg\, Haus der Evang. Kirche<
 br />Schnewlinstraße 2<br />79098 Freiburg im Breisgau<br />Telefon: +49 7
 61 205741 0<br />https://www.evangelisch-in-freiburg.de<br /><br />Veranst
 alter: <br />KDA Baden<br />Dr. Jochen Kunath<br />Blumenstr. 1-7<br />761
 33 Karlsruhe<br />Telefon: +49(0)721 9175-360<br />Telefax: +49(0)721 9175
 -25360<br />http://www.kda-baden.de
END:VEVENT
END:VCALENDAR
